BEGIN:VCALENDAR
VERSION:2.0
PRODID:-//MoreDirt v1.0//EN
BEGIN:VEVENT
DTSTAMP:20150730T130000Z
ORGANIZER;CN=Mr John Lloyd MBE:MAILTO:
STATUS:CONFIRMED
UID:MORESPORTSNETWORK421
DTSTART:20120915T080000Z
DTEND:20120916T120000Z
SUMMARY:Chain Reaction Cycles MTB Marathon Series 2012- Round 5 Ruthin
DESCRIPTION:Chain Reaction Cycles MTB Marathon Series 2012- Round 5 Ruthin - more details: https://www.moredirt.com/event/421
X-ALT-DESC;FMTTYPE=text/html:Chain Reaction Cycles MTB Marathon Series 2012- Round 5 Ruthin - more details: https://www.moredirt.com/event/421
LOCATION:
END:VEVENT
END:VCALENDAR