BEGIN:VCALENDAR
VERSION:2.0
PRODID:-//MoreDirt v1.0//EN
BEGIN:VEVENT
DTSTAMP:20150730T130000Z
ORGANIZER;CN=Sportive Breaks:MAILTO:
STATUS:CONFIRMED
UID:MORESPORTSNETWORK4219
DTSTART:20200912T080000Z
DTEND:20200912T120000Z
SUMMARY:Pearson Inside Out Gravel Series - Autumn Edition
DESCRIPTION:Pearson Inside Out Gravel Series - Autumn Edition - more details: https://www.moredirt.com/event/4219
X-ALT-DESC;FMTTYPE=text/html:Pearson Inside Out Gravel Series - Autumn Edition - more details: https://www.moredirt.com/event/4219
LOCATION:
END:VEVENT
END:VCALENDAR