BEGIN:VCALENDAR
VERSION:2.0
PRODID:-//MoreDirt v1.0//EN
BEGIN:VEVENT
DTSTAMP:20150730T130000Z
ORGANIZER;CN=Rutland Cycling:MAILTO:
STATUS:CONFIRMED
UID:MORESPORTSNETWORK4210
DTSTART:20200222T080000+0000
DTEND:20200222T120000+0000
SUMMARY:MTB Social - Giant Store Rutland at Chicksands Bikepark
DESCRIPTION:MTB Social - Giant Store Rutland at Chicksands Bikepark - more details: https://www.moredirt.com/event/4210
X-ALT-DESC;FMTTYPE=text/html:MTB Social - Giant Store Rutland at Chicksands Bikepark - more details: https://www.moredirt.com/event/4210
LOCATION:
END:VEVENT
END:VCALENDAR