BEGIN:VCALENDAR
VERSION:2.0
PRODID:-//MoreDirt v1.0//EN
BEGIN:VEVENT
DTSTAMP:20150730T130000Z
ORGANIZER;CN=Canyon:MAILTO:
STATUS:CONFIRMED
UID:MORESPORTSNETWORK4209
DTSTART:20200404T080000Z
DTEND:20200405T120000Z
SUMMARY:Canyon Collective Sessions: Ft. The Seagraves
DESCRIPTION:Canyon Collective Sessions: Ft. The Seagraves - more details: https://www.moredirt.com/event/4209
X-ALT-DESC;FMTTYPE=text/html:Canyon Collective Sessions: Ft. The Seagraves - more details: https://www.moredirt.com/event/4209
LOCATION:
END:VEVENT
END:VCALENDAR