BEGIN:VCALENDAR
VERSION:2.0
PRODID:-//MoreDirt v1.0//EN
BEGIN:VEVENT
DTSTAMP:20150730T130000Z
ORGANIZER;CN=Doon Tha Brae Events:MAILTO:
STATUS:CONFIRMED
UID:MORESPORTSNETWORK4203
DTSTART:20200621T080000Z
DTEND:20200621T120000Z
SUMMARY:Aberdeenshire Enduro Series - Round 2
DESCRIPTION:Aberdeenshire Enduro Series - Round 2 - more details: https://www.moredirt.com/event/4203
X-ALT-DESC;FMTTYPE=text/html:Aberdeenshire Enduro Series - Round 2 - more details: https://www.moredirt.com/event/4203
LOCATION:
END:VEVENT
END:VCALENDAR