BEGIN:VCALENDAR
VERSION:2.0
PRODID:-//MoreDirt v1.0//EN
BEGIN:VEVENT
DTSTAMP:20150730T130000Z
ORGANIZER;CN=IOW MTB Centre:MAILTO:
STATUS:CONFIRMED
UID:MORESPORTSNETWORK4195
DTSTART:20200328T080000+0000
DTEND:20200329T120000Z
SUMMARY:IOW MTB Centre - Opening weekend 2020
DESCRIPTION:IOW MTB Centre - Opening weekend 2020 - more details: https://www.moredirt.com/event/4195
X-ALT-DESC;FMTTYPE=text/html:IOW MTB Centre - Opening weekend 2020 - more details: https://www.moredirt.com/event/4195
LOCATION:
END:VEVENT
END:VCALENDAR