BEGIN:VCALENDAR
VERSION:2.0
PRODID:-//MoreDirt v1.0//EN
BEGIN:VEVENT
DTSTAMP:20150730T130000Z
ORGANIZER;CN=Giant Store Dublin:MAILTO:
STATUS:CONFIRMED
UID:MORESPORTSNETWORK4178
DTSTART:20200229T080000+0000
DTEND:20200229T120000+0000
SUMMARY:Giant MTB & E-Bike MTB Demo Day
DESCRIPTION:Giant MTB & E-Bike MTB Demo Day - more details: https://www.moredirt.com/event/4178
X-ALT-DESC;FMTTYPE=text/html:Giant MTB & E-Bike MTB Demo Day - more details: https://www.moredirt.com/event/4178
LOCATION:
END:VEVENT
END:VCALENDAR