BEGIN:VCALENDAR
VERSION:2.0
PRODID:-//MoreDirt v1.0//EN
BEGIN:VEVENT
DTSTAMP:20150730T130000Z
ORGANIZER;CN=Mountain Bike the Tetons:MAILTO:
STATUS:CONFIRMED
UID:MORESPORTSNETWORK4173
DTSTART:20200911T080000Z
DTEND:20200912T120000Z
SUMMARY:The Cariboo Jack
DESCRIPTION:The Cariboo Jack - more details: https://www.moredirt.com/event/4173
X-ALT-DESC;FMTTYPE=text/html:The Cariboo Jack - more details: https://www.moredirt.com/event/4173
LOCATION:
END:VEVENT
END:VCALENDAR