BEGIN:VCALENDAR
VERSION:2.0
PRODID:-//MoreDirt v1.0//EN
BEGIN:VEVENT
DTSTAMP:20150730T130000Z
ORGANIZER;CN=Montana Enduro Series:MAILTO:
STATUS:CONFIRMED
UID:MORESPORTSNETWORK4172
DTSTART:20200829T080000Z
DTEND:20200829T120000Z
SUMMARY:Montana Enduro Series 2020 - The Rendezvous Enduro
DESCRIPTION:Montana Enduro Series 2020 - The Rendezvous Enduro - more details: https://www.moredirt.com/event/4172
X-ALT-DESC;FMTTYPE=text/html:Montana Enduro Series 2020 - The Rendezvous Enduro - more details: https://www.moredirt.com/event/4172
LOCATION:
END:VEVENT
END:VCALENDAR