BEGIN:VCALENDAR
VERSION:2.0
PRODID:-//MoreDirt v1.0//EN
BEGIN:VEVENT
DTSTAMP:20150730T130000Z
ORGANIZER;CN=Montana Enduro Series:MAILTO:
STATUS:CONFIRMED
UID:MORESPORTSNETWORK4171
DTSTART:20200725T080000Z
DTEND:20200725T120000Z
SUMMARY:Montana Enduro Series 2020 - Lone Peak's Revenge
DESCRIPTION:Montana Enduro Series 2020 - Lone Peak's Revenge - more details: https://www.moredirt.com/event/4171
X-ALT-DESC;FMTTYPE=text/html:Montana Enduro Series 2020 - Lone Peak's Revenge - more details: https://www.moredirt.com/event/4171
LOCATION:
END:VEVENT
END:VCALENDAR