BEGIN:VCALENDAR
VERSION:2.0
PRODID:-//MoreDirt v1.0//EN
BEGIN:VEVENT
DTSTAMP:20150730T130000Z
ORGANIZER;CN=Warriors Cycling:MAILTO:
STATUS:CONFIRMED
UID:MORESPORTSNETWORK4168
DTSTART:20200718T080000Z
DTEND:20200718T120000Z
SUMMARY:Breck Bash 2020
DESCRIPTION:Breck Bash 2020 - more details: https://www.moredirt.com/event/4168
X-ALT-DESC;FMTTYPE=text/html:Breck Bash 2020 - more details: https://www.moredirt.com/event/4168
LOCATION:
END:VEVENT
END:VCALENDAR