BEGIN:VCALENDAR
VERSION:2.0
PRODID:-//MoreDirt v1.0//EN
BEGIN:VEVENT
DTSTAMP:20150730T130000Z
ORGANIZER;CN=J E James Cycles:MAILTO:
STATUS:CONFIRMED
UID:MORESPORTSNETWORK4160
DTSTART:20200229T080000+0000
DTEND:20200229T120000+0000
SUMMARY:Cyclefest 2020
DESCRIPTION:Cyclefest 2020 - more details: https://www.moredirt.com/event/4160
X-ALT-DESC;FMTTYPE=text/html:Cyclefest 2020 - more details: https://www.moredirt.com/event/4160
LOCATION:
END:VEVENT
END:VCALENDAR