BEGIN:VCALENDAR
VERSION:2.0
PRODID:-//MoreDirt v1.0//EN
BEGIN:VEVENT
DTSTAMP:20150730T130000Z
ORGANIZER;CN=Cyclewise:MAILTO:
STATUS:CONFIRMED
UID:MORESPORTSNETWORK4159
DTSTART:20200516T080000Z
DTEND:20200517T120000Z
SUMMARY:Orbea Demo - Cyclewise Whinlatter
DESCRIPTION:Orbea Demo - Cyclewise Whinlatter - more details: https://www.moredirt.com/event/4159
X-ALT-DESC;FMTTYPE=text/html:Orbea Demo - Cyclewise Whinlatter - more details: https://www.moredirt.com/event/4159
LOCATION:
END:VEVENT
END:VCALENDAR