BEGIN:VCALENDAR
VERSION:2.0
PRODID:-//MoreDirt v1.0//EN
BEGIN:VEVENT
DTSTAMP:20150730T130000Z
ORGANIZER;CN=Hospiscare, Climb South West and Dave Talbot Adventures:MAILTO:
STATUS:CONFIRMED
UID:MORESPORTSNETWORK4157
DTSTART:20200912T080000Z
DTEND:20200912T120000Z
SUMMARY:WildTri & WildTri Extreme
DESCRIPTION:WildTri & WildTri Extreme - more details: https://www.moredirt.com/event/4157
X-ALT-DESC;FMTTYPE=text/html:WildTri & WildTri Extreme - more details: https://www.moredirt.com/event/4157
LOCATION:
END:VEVENT
END:VCALENDAR