BEGIN:VCALENDAR
VERSION:2.0
PRODID:-//MoreDirt v1.0//EN
BEGIN:VEVENT
DTSTAMP:20150730T130000Z
ORGANIZER;CN=Specialized:MAILTO:
STATUS:CONFIRMED
UID:MORESPORTSNETWORK4155
DTSTART:20200222T080000+0000
DTEND:20200222T120000+0000
SUMMARY:Soil Searching - Leith Hill
DESCRIPTION:Soil Searching - Leith Hill - more details: https://www.moredirt.com/event/4155
X-ALT-DESC;FMTTYPE=text/html:Soil Searching - Leith Hill - more details: https://www.moredirt.com/event/4155
LOCATION:
END:VEVENT
END:VCALENDAR