BEGIN:VCALENDAR
VERSION:2.0
PRODID:-//MoreDirt v1.0//EN
BEGIN:VEVENT
DTSTAMP:20150730T130000Z
ORGANIZER;CN=Canyon and Revolution Bike Park:MAILTO:
STATUS:CONFIRMED
UID:MORESPORTSNETWORK4153
DTSTART:20200201T080000+0000
DTEND:20200201T120000+0000
SUMMARY:Canyon Collective Sessions: Revolution Bike Park
DESCRIPTION:Canyon Collective Sessions: Revolution Bike Park - more details: https://www.moredirt.com/event/4153
X-ALT-DESC;FMTTYPE=text/html:Canyon Collective Sessions: Revolution Bike Park - more details: https://www.moredirt.com/event/4153
LOCATION:
END:VEVENT
END:VCALENDAR