BEGIN:VCALENDAR
VERSION:2.0
PRODID:-//MoreDirt v1.0//EN
BEGIN:VEVENT
DTSTAMP:20150730T130000Z
ORGANIZER;CN=Team Ballyhoura:MAILTO:
STATUS:CONFIRMED
UID:MORESPORTSNETWORK4152
DTSTART:20201004T080000Z
DTEND:20201004T120000Z
SUMMARY:2NDURO - Ballyhoura 2020
DESCRIPTION:2NDURO - Ballyhoura 2020 - more details: https://www.moredirt.com/event/4152
X-ALT-DESC;FMTTYPE=text/html:2NDURO - Ballyhoura 2020 - more details: https://www.moredirt.com/event/4152
LOCATION:
END:VEVENT
END:VCALENDAR