BEGIN:VCALENDAR
VERSION:2.0
PRODID:-//MoreDirt v1.0//EN
BEGIN:VEVENT
DTSTAMP:20150730T130000Z
ORGANIZER;CN=Steel City Series:MAILTO:
STATUS:CONFIRMED
UID:MORESPORTSNETWORK4150
DTSTART:20200613T080000Z
DTEND:20200613T120000Z
SUMMARY:Peaty's Steel City DH 2020
DESCRIPTION:Peaty's Steel City DH 2020 - more details: https://www.moredirt.com/event/4150
X-ALT-DESC;FMTTYPE=text/html:Peaty's Steel City DH 2020 - more details: https://www.moredirt.com/event/4150
LOCATION:
END:VEVENT
END:VCALENDAR