BEGIN:VCALENDAR
VERSION:2.0
PRODID:-//MoreDirt v1.0//EN
BEGIN:VEVENT
DTSTAMP:20150730T130000Z
ORGANIZER;CN=Spike PR:MAILTO:
STATUS:CONFIRMED
UID:MORESPORTSNETWORK414
DTSTART:20120915T080000Z
DTEND:20120916T120000Z
SUMMARY:Mondraker Gravity Rally
DESCRIPTION:Mondraker Gravity Rally - more details: https://www.moredirt.com/event/414
X-ALT-DESC;FMTTYPE=text/html:Mondraker Gravity Rally - more details: https://www.moredirt.com/event/414
LOCATION:
END:VEVENT
END:VCALENDAR