BEGIN:VCALENDAR
VERSION:2.0
PRODID:-//MoreDirt v1.0//EN
BEGIN:VEVENT
DTSTAMP:20150730T130000Z
ORGANIZER;CN=Mr Oliver Graham:MAILTO:
STATUS:CONFIRMED
UID:MORESPORTSNETWORK413
DTSTART:20120901T080000Z
DTEND:20120902T120000Z
SUMMARY:Hamsterley 1-2-1 Race 2012
DESCRIPTION:Hamsterley 1-2-1 Race 2012 - more details: https://www.moredirt.com/event/413
X-ALT-DESC;FMTTYPE=text/html:Hamsterley 1-2-1 Race 2012 - more details: https://www.moredirt.com/event/413
LOCATION:
END:VEVENT
END:VCALENDAR