BEGIN:VCALENDAR
VERSION:2.0
PRODID:-//MoreDirt v1.0//EN
BEGIN:VEVENT
DTSTAMP:20150730T130000Z
ORGANIZER;CN=Beast Clan Productions:MAILTO:
STATUS:CONFIRMED
UID:MORESPORTSNETWORK4112
DTSTART:20200509T080000Z
DTEND:20200510T120000Z
SUMMARY:Northern Berzerker
DESCRIPTION:Northern Berzerker - more details: https://www.moredirt.com/event/4112
X-ALT-DESC;FMTTYPE=text/html:Northern Berzerker - more details: https://www.moredirt.com/event/4112
LOCATION:
END:VEVENT
END:VCALENDAR