BEGIN:VCALENDAR
VERSION:2.0
PRODID:-//MoreDirt v1.0//EN
BEGIN:VEVENT
DTSTAMP:20150730T130000Z
ORGANIZER;CN=Esk Valley Enduro:MAILTO:
STATUS:CONFIRMED
UID:MORESPORTSNETWORK4110
DTSTART:20210724T080000Z
DTEND:20210725T120000Z
SUMMARY:Esk Valley Enduro
DESCRIPTION:Esk Valley Enduro - more details: https://www.moredirt.com/event/4110
X-ALT-DESC;FMTTYPE=text/html:Esk Valley Enduro - more details: https://www.moredirt.com/event/4110
LOCATION:
END:VEVENT
END:VCALENDAR