BEGIN:VCALENDAR
VERSION:2.0
PRODID:-//MoreDirt v1.0//EN
BEGIN:VEVENT
DTSTAMP:20150730T130000Z
ORGANIZER;CN=Wheelbase:MAILTO:
STATUS:CONFIRMED
UID:MORESPORTSNETWORK4086
DTSTART:20201107T080000+0000
DTEND:20201107T120000+0000
SUMMARY:Wheelbase North East Winter Demo
DESCRIPTION:Wheelbase North East Winter Demo - more details: https://www.moredirt.com/event/4086
X-ALT-DESC;FMTTYPE=text/html:Wheelbase North East Winter Demo - more details: https://www.moredirt.com/event/4086
LOCATION:
END:VEVENT
END:VCALENDAR