BEGIN:VCALENDAR
VERSION:2.0
PRODID:-//MoreDirt v1.0//EN
BEGIN:VEVENT
DTSTAMP:20150730T130000Z
ORGANIZER;CN=Coupar Angus Cycling Hub:MAILTO:
STATUS:CONFIRMED
UID:MORESPORTSNETWORK4084
DTSTART:20200627T080000Z
DTEND:20200628T120000Z
SUMMARY:Ballo Enduro 2020
DESCRIPTION:Ballo Enduro 2020 - more details: https://www.moredirt.com/event/4084
X-ALT-DESC;FMTTYPE=text/html:Ballo Enduro 2020 - more details: https://www.moredirt.com/event/4084
LOCATION:
END:VEVENT
END:VCALENDAR