BEGIN:VCALENDAR
VERSION:2.0
PRODID:-//MoreDirt v1.0//EN
BEGIN:VEVENT
DTSTAMP:20150730T130000Z
ORGANIZER;CN=Doon Tha Brae Events:MAILTO:
STATUS:CONFIRMED
UID:MORESPORTSNETWORK4083
DTSTART:20201004T080000Z
DTEND:20201004T120000Z
SUMMARY:Pitfichie Enduro 2020
DESCRIPTION:Pitfichie Enduro 2020 - more details: https://www.moredirt.com/event/4083
X-ALT-DESC;FMTTYPE=text/html:Pitfichie Enduro 2020 - more details: https://www.moredirt.com/event/4083
LOCATION:
END:VEVENT
END:VCALENDAR