BEGIN:VCALENDAR
VERSION:2.0
PRODID:-//MoreDirt v1.0//EN
BEGIN:VEVENT
DTSTAMP:20150730T130000Z
ORGANIZER;CN=Doon Tha Brae Events:MAILTO:
STATUS:CONFIRMED
UID:MORESPORTSNETWORK4082
DTSTART:20200510T080000Z
DTEND:20200510T120000Z
SUMMARY:Aberdeenshire Enduro Series - Round 1
DESCRIPTION:Aberdeenshire Enduro Series - Round 1 - more details: https://www.moredirt.com/event/4082
X-ALT-DESC;FMTTYPE=text/html:Aberdeenshire Enduro Series - Round 1 - more details: https://www.moredirt.com/event/4082
LOCATION:
END:VEVENT
END:VCALENDAR