BEGIN:VCALENDAR
VERSION:2.0
PRODID:-//MoreDirt v1.0//EN
BEGIN:VEVENT
DTSTAMP:20150730T130000Z
ORGANIZER;CN=Glencullen Adventure Park:MAILTO:
STATUS:CONFIRMED
UID:MORESPORTSNETWORK4041
DTSTART:20200308T080000+0000
DTEND:20200308T120000+0000
SUMMARY:The GAP Spring Downhill Series RD2
DESCRIPTION:The GAP Spring Downhill Series RD2 - more details: https://www.moredirt.com/event/4041
X-ALT-DESC;FMTTYPE=text/html:The GAP Spring Downhill Series RD2 - more details: https://www.moredirt.com/event/4041
LOCATION:
END:VEVENT
END:VCALENDAR