BEGIN:VCALENDAR
VERSION:2.0
PRODID:-//MoreDirt v1.0//EN
BEGIN:VEVENT
DTSTAMP:20150730T130000Z
ORGANIZER;CN=Pedal Events:MAILTO:
STATUS:CONFIRMED
UID:MORESPORTSNETWORK4037
DTSTART:20200315T080000+0000
DTEND:20200315T120000+0000
SUMMARY:Mad March Hare
DESCRIPTION:Mad March Hare - more details: https://www.moredirt.com/event/4037
X-ALT-DESC;FMTTYPE=text/html:Mad March Hare - more details: https://www.moredirt.com/event/4037
LOCATION:
END:VEVENT
END:VCALENDAR