BEGIN:VCALENDAR
VERSION:2.0
PRODID:-//MoreDirt v1.0//EN
BEGIN:VEVENT
DTSTAMP:20150730T130000Z
ORGANIZER;CN=Chris Roberts:MAILTO:
STATUS:CONFIRMED
UID:MORESPORTSNETWORK402
DTSTART:20120701T080000Z
DTEND:20120701T120000Z
SUMMARY:Schwalbe British 4X Series RD3
DESCRIPTION:Schwalbe British 4X Series RD3 - more details: https://www.moredirt.com/event/402
X-ALT-DESC;FMTTYPE=text/html:Schwalbe British 4X Series RD3 - more details: https://www.moredirt.com/event/402
LOCATION:
END:VEVENT
END:VCALENDAR