BEGIN:VCALENDAR
VERSION:2.0
PRODID:-//MoreDirt v1.0//EN
BEGIN:VEVENT
DTSTAMP:20150730T130000Z
ORGANIZER;CN=Paul Hore:MAILTO:
STATUS:CONFIRMED
UID:MORESPORTSNETWORK39
DTSTART:20101205T080000+0000
DTEND:20101205T120000+0000
SUMMARY:Whyte Winter Enduro Round 2
DESCRIPTION:Whyte Winter Enduro Round 2 - more details: https://www.moredirt.com/event/39
X-ALT-DESC;FMTTYPE=text/html:Whyte Winter Enduro Round 2 - more details: https://www.moredirt.com/event/39
LOCATION:
END:VEVENT
END:VCALENDAR