BEGIN:VCALENDAR
VERSION:2.0
PRODID:-//MoreDirt v1.0//EN
BEGIN:VEVENT
DTSTAMP:20150730T130000Z
ORGANIZER;CN=Manx MTB Enduro:MAILTO:
STATUS:CONFIRMED
UID:MORESPORTSNETWORK3985
DTSTART:20200704T080000Z
DTEND:20200705T120000Z
SUMMARY:Isle of Man PokerStars 2 Day Enduro
DESCRIPTION:Isle of Man PokerStars 2 Day Enduro - more details: https://www.moredirt.com/event/3985
X-ALT-DESC;FMTTYPE=text/html:Isle of Man PokerStars 2 Day Enduro - more details: https://www.moredirt.com/event/3985
LOCATION:
END:VEVENT
END:VCALENDAR