BEGIN:VCALENDAR
VERSION:2.0
PRODID:-//MoreDirt v1.0//EN
BEGIN:VEVENT
DTSTAMP:20150730T130000Z
ORGANIZER;CN=Hargroves Cycles:MAILTO:
STATUS:CONFIRMED
UID:MORESPORTSNETWORK395
DTSTART:20120519T080000Z
DTEND:20120519T120000Z
SUMMARY:MBUK Royal Rumble 4 hour Enduro
DESCRIPTION:MBUK Royal Rumble 4 hour Enduro - more details: https://www.moredirt.com/event/395
X-ALT-DESC;FMTTYPE=text/html:MBUK Royal Rumble 4 hour Enduro - more details: https://www.moredirt.com/event/395
LOCATION:
END:VEVENT
END:VCALENDAR