BEGIN:VCALENDAR
VERSION:2.0
PRODID:-//MoreDirt v1.0//EN
BEGIN:VEVENT
DTSTAMP:20150730T130000Z
ORGANIZER;CN=Mark Cox:MAILTO:
STATUS:CONFIRMED
UID:MORESPORTSNETWORK3955
DTSTART:20200607T080000Z
DTEND:20200607T120000Z
SUMMARY:FlanRou RIBINOÙ 2020 - CX Challenge
DESCRIPTION:FlanRou RIBINOÙ 2020 - CX Challenge - more details: https://www.moredirt.com/event/3955
X-ALT-DESC;FMTTYPE=text/html:FlanRou RIBINOÙ 2020 - CX Challenge - more details: https://www.moredirt.com/event/3955
LOCATION:
END:VEVENT
END:VCALENDAR