BEGIN:VCALENDAR
VERSION:2.0
PRODID:-//MoreDirt v1.0//EN
BEGIN:VEVENT
DTSTAMP:20150730T130000Z
ORGANIZER;CN=Machynlleth MTB Club:MAILTO:
STATUS:CONFIRMED
UID:MORESPORTSNETWORK3951
DTSTART:20200126T080000+0000
DTEND:20200126T120000+0000
SUMMARY:Dyfi Winter Warm Up 2020
DESCRIPTION:Dyfi Winter Warm Up 2020 - more details: https://www.moredirt.com/event/3951
X-ALT-DESC;FMTTYPE=text/html:Dyfi Winter Warm Up 2020 - more details: https://www.moredirt.com/event/3951
LOCATION:
END:VEVENT
END:VCALENDAR