BEGIN:VCALENDAR
VERSION:2.0
PRODID:-//MoreDirt v1.0//EN
BEGIN:VEVENT
DTSTAMP:20150730T130000Z
ORGANIZER;CN=Roger Harris:MAILTO:
STATUS:CONFIRMED
UID:MORESPORTSNETWORK394
DTSTART:20120512T080000Z
DTEND:20120512T120000Z
SUMMARY:WDMBA - DH Uplift day
DESCRIPTION:WDMBA - DH Uplift day - more details: https://www.moredirt.com/event/394
X-ALT-DESC;FMTTYPE=text/html:WDMBA - DH Uplift day - more details: https://www.moredirt.com/event/394
LOCATION:
END:VEVENT
END:VCALENDAR