BEGIN:VCALENDAR
VERSION:2.0
PRODID:-//MoreDirt v1.0//EN
BEGIN:VEVENT
DTSTAMP:20150730T130000Z
ORGANIZER;CN=Black Fork LLC.:MAILTO:
STATUS:CONFIRMED
UID:MORESPORTSNETWORK3927
DTSTART:20200502T080000Z
DTEND:20200502T120000Z
SUMMARY:Black Fork Gravel Grinder
DESCRIPTION:Black Fork Gravel Grinder - more details: https://www.moredirt.com/event/3927
X-ALT-DESC;FMTTYPE=text/html:Black Fork Gravel Grinder - more details: https://www.moredirt.com/event/3927
LOCATION:
END:VEVENT
END:VCALENDAR