BEGIN:VCALENDAR
VERSION:2.0
PRODID:-//MoreDirt v1.0//EN
BEGIN:VEVENT
DTSTAMP:20150730T130000Z
ORGANIZER;CN=Fast Green Racing Inc.:MAILTO:
STATUS:CONFIRMED
UID:MORESPORTSNETWORK3926
DTSTART:20200620T080000Z
DTEND:20200620T120000Z
SUMMARY:Broken Spoke Challenge 2020
DESCRIPTION:Broken Spoke Challenge 2020 - more details: https://www.moredirt.com/event/3926
X-ALT-DESC;FMTTYPE=text/html:Broken Spoke Challenge 2020 - more details: https://www.moredirt.com/event/3926
LOCATION:
END:VEVENT
END:VCALENDAR