BEGIN:VCALENDAR
VERSION:2.0
PRODID:-//MoreDirt v1.0//EN
BEGIN:VEVENT
DTSTAMP:20150730T130000Z
ORGANIZER;CN=Dirt Dash:MAILTO:
STATUS:CONFIRMED
UID:MORESPORTSNETWORK3925
DTSTART:20210925T080000Z
DTEND:20210926T120000Z
SUMMARY:The Dunoon Dirt Dash
DESCRIPTION:The Dunoon Dirt Dash - more details: https://www.moredirt.com/event/3925
X-ALT-DESC;FMTTYPE=text/html:The Dunoon Dirt Dash - more details: https://www.moredirt.com/event/3925
LOCATION:
END:VEVENT
END:VCALENDAR