BEGIN:VCALENDAR
VERSION:2.0
PRODID:-//MoreDirt v1.0//EN
BEGIN:VEVENT
DTSTAMP:20150730T130000Z
ORGANIZER;CN=South West Cyclo-cross:MAILTO:
STATUS:CONFIRMED
UID:MORESPORTSNETWORK3916
DTSTART:20191117T080000+0000
DTEND:20191117T120000+0000
SUMMARY:South West Cyclo-Cross Round 7 - Falmouth Bike Park
DESCRIPTION:South West Cyclo-Cross Round 7 - Falmouth Bike Park - more details: https://www.moredirt.com/event/3916
X-ALT-DESC;FMTTYPE=text/html:South West Cyclo-Cross Round 7 - Falmouth Bike Park - more details: https://www.moredirt.com/event/3916
LOCATION:
END:VEVENT
END:VCALENDAR