BEGIN:VCALENDAR
VERSION:2.0
PRODID:-//MoreDirt v1.0//EN
BEGIN:VEVENT
DTSTAMP:20150730T130000Z
ORGANIZER;CN=Stanton Bikes:MAILTO:
STATUS:CONFIRMED
UID:MORESPORTSNETWORK3861
DTSTART:20191215T080000+0000
DTEND:20191215T120000+0000
SUMMARY:Stanton Bikes Demo Day - Hopton Woods
DESCRIPTION:Stanton Bikes Demo Day - Hopton Woods - more details: https://www.moredirt.com/event/3861
X-ALT-DESC;FMTTYPE=text/html:Stanton Bikes Demo Day - Hopton Woods - more details: https://www.moredirt.com/event/3861
LOCATION:
END:VEVENT
END:VCALENDAR