BEGIN:VCALENDAR
VERSION:2.0
PRODID:-//MoreDirt v1.0//EN
BEGIN:VEVENT
DTSTAMP:20150730T130000Z
ORGANIZER;CN=Stanton Bikes:MAILTO:
STATUS:CONFIRMED
UID:MORESPORTSNETWORK3860
DTSTART:20191201T080000+0000
DTEND:20191201T120000+0000
SUMMARY:Stanton Bikes Demo Day - Leigh Woods
DESCRIPTION:Stanton Bikes Demo Day - Leigh Woods - more details: https://www.moredirt.com/event/3860
X-ALT-DESC;FMTTYPE=text/html:Stanton Bikes Demo Day - Leigh Woods - more details: https://www.moredirt.com/event/3860
LOCATION:
END:VEVENT
END:VCALENDAR