BEGIN:VCALENDAR
VERSION:2.0
PRODID:-//MoreDirt v1.0//EN
BEGIN:VEVENT
DTSTAMP:20150730T130000Z
ORGANIZER;CN=Stanton Bikes:MAILTO:
STATUS:CONFIRMED
UID:MORESPORTSNETWORK3858
DTSTART:20191103T080000+0000
DTEND:20191103T120000+0000
SUMMARY:Stanton Bikes Demo Day - Marin Trail
DESCRIPTION:Stanton Bikes Demo Day - Marin Trail - more details: https://www.moredirt.com/event/3858
X-ALT-DESC;FMTTYPE=text/html:Stanton Bikes Demo Day - Marin Trail - more details: https://www.moredirt.com/event/3858
LOCATION:
END:VEVENT
END:VCALENDAR