BEGIN:VCALENDAR
VERSION:2.0
PRODID:-//MoreDirt v1.0//EN
BEGIN:VEVENT
DTSTAMP:20150730T130000Z
ORGANIZER;CN=Sussed Out:MAILTO:
STATUS:CONFIRMED
UID:MORESPORTSNETWORK3845
DTSTART:20191103T080000+0000
DTEND:20191103T120000+0000
SUMMARY:Sussed Out MTB Demo Day
DESCRIPTION:Sussed Out MTB Demo Day - more details: https://www.moredirt.com/event/3845
X-ALT-DESC;FMTTYPE=text/html:Sussed Out MTB Demo Day - more details: https://www.moredirt.com/event/3845
LOCATION:
END:VEVENT
END:VCALENDAR