BEGIN:VCALENDAR
VERSION:2.0
PRODID:-//MoreDirt v1.0//EN
BEGIN:VEVENT
DTSTAMP:20150730T130000Z
ORGANIZER;CN=Campau Caron:MAILTO:
STATUS:CONFIRMED
UID:MORESPORTSNETWORK3844
DTSTART:20191103T080000+0000
DTEND:20191103T120000+0000
SUMMARY:Campau Caron Mountain Bike Enduro
DESCRIPTION:Campau Caron Mountain Bike Enduro - more details: https://www.moredirt.com/event/3844
X-ALT-DESC;FMTTYPE=text/html:Campau Caron Mountain Bike Enduro - more details: https://www.moredirt.com/event/3844
LOCATION:
END:VEVENT
END:VCALENDAR