BEGIN:VCALENDAR
VERSION:2.0
PRODID:-//MoreDirt v1.0//EN
BEGIN:VEVENT
DTSTAMP:20150730T130000Z
ORGANIZER;CN=Farmer Johns MTB Park:MAILTO:
STATUS:CONFIRMED
UID:MORESPORTSNETWORK3818
DTSTART:20191130T080000+0000
DTEND:20191130T120000+0000
SUMMARY:Farmer Johns in the Dirt Factory
DESCRIPTION:Farmer Johns in the Dirt Factory - more details: https://www.moredirt.com/event/3818
X-ALT-DESC;FMTTYPE=text/html:Farmer Johns in the Dirt Factory - more details: https://www.moredirt.com/event/3818
LOCATION:
END:VEVENT
END:VCALENDAR