BEGIN:VCALENDAR
VERSION:2.0
PRODID:-//MoreDirt v1.0//EN
BEGIN:VEVENT
DTSTAMP:20150730T130000Z
ORGANIZER;CN=Visit Inverness Loch Ness:MAILTO:
STATUS:CONFIRMED
UID:MORESPORTSNETWORK3814
DTSTART:20210528T080000Z
DTEND:20210530T120000Z
SUMMARY:Loch Ness 360 Mountain Bike Challenge
DESCRIPTION:Loch Ness 360 Mountain Bike Challenge - more details: https://www.moredirt.com/event/3814
X-ALT-DESC;FMTTYPE=text/html:Loch Ness 360 Mountain Bike Challenge - more details: https://www.moredirt.com/event/3814
LOCATION:
END:VEVENT
END:VCALENDAR