BEGIN:VCALENDAR
VERSION:2.0
PRODID:-//MoreDirt v1.0//EN
BEGIN:VEVENT
DTSTAMP:20150730T130000Z
ORGANIZER;CN=B1KE:MAILTO:
STATUS:CONFIRMED
UID:MORESPORTSNETWORK3813
DTSTART:20191117T080000+0000
DTEND:20191117T120000+0000
SUMMARY:Hooper Hoohaa 2019
DESCRIPTION:Hooper Hoohaa 2019 - more details: https://www.moredirt.com/event/3813
X-ALT-DESC;FMTTYPE=text/html:Hooper Hoohaa 2019 - more details: https://www.moredirt.com/event/3813
LOCATION:
END:VEVENT
END:VCALENDAR