BEGIN:VCALENDAR
VERSION:2.0
PRODID:-//MoreDirt v1.0//EN
BEGIN:VEVENT
DTSTAMP:20150730T130000Z
ORGANIZER;CN=Stanton Bikes:MAILTO:
STATUS:CONFIRMED
UID:MORESPORTSNETWORK3773
DTSTART:20190928T080000Z
DTEND:20190928T120000Z
SUMMARY:Stanton Saturday Demo Day
DESCRIPTION:Stanton Saturday Demo Day - more details: https://www.moredirt.com/event/3773
X-ALT-DESC;FMTTYPE=text/html:Stanton Saturday Demo Day - more details: https://www.moredirt.com/event/3773
LOCATION:
END:VEVENT
END:VCALENDAR