BEGIN:VCALENDAR
VERSION:2.0
PRODID:-//MoreDirt v1.0//EN
BEGIN:VEVENT
DTSTAMP:20150730T130000Z
ORGANIZER;CN=Alpkit:MAILTO:
STATUS:CONFIRMED
UID:MORESPORTSNETWORK3771
DTSTART:20210911T080000Z
DTEND:20210911T120000Z
SUMMARY:The Dirty Reiver 2021
DESCRIPTION:The Dirty Reiver 2021 - more details: https://www.moredirt.com/event/3771
X-ALT-DESC;FMTTYPE=text/html:The Dirty Reiver 2021 - more details: https://www.moredirt.com/event/3771
LOCATION:
END:VEVENT
END:VCALENDAR