BEGIN:VCALENDAR
VERSION:2.0
PRODID:-//MoreDirt v1.0//EN
BEGIN:VEVENT
DTSTAMP:20150730T130000Z
ORGANIZER;CN=Strathpuffer:MAILTO:
STATUS:CONFIRMED
UID:MORESPORTSNETWORK3770
DTSTART:20200118T080000+0000
DTEND:20200119T120000+0000
SUMMARY:Strathpuffer 24 MTB 2020
DESCRIPTION:Strathpuffer 24 MTB 2020 - more details: https://www.moredirt.com/event/3770
X-ALT-DESC;FMTTYPE=text/html:Strathpuffer 24 MTB 2020 - more details: https://www.moredirt.com/event/3770
LOCATION:
END:VEVENT
END:VCALENDAR